BEGIN:VCALENDAR
VERSION:2.0
PRODID:-//Center for Texas Studies - ECPv6.15.17.1//NONSGML v1.0//EN
CALSCALE:GREGORIAN
METHOD:PUBLISH
X-ORIGINAL-URL:https://texasstudies.org
X-WR-CALDESC:Events for Center for Texas Studies
REFRESH-INTERVAL;VALUE=DURATION:PT1H
X-Robots-Tag:noindex
X-PUBLISHED-TTL:PT1H
BEGIN:VTIMEZONE
TZID:America/Chicago
BEGIN:DAYLIGHT
TZOFFSETFROM:-0600
TZOFFSETTO:-0500
TZNAME:CDT
DTSTART:20210314T080000
END:DAYLIGHT
BEGIN:STANDARD
TZOFFSETFROM:-0500
TZOFFSETTO:-0600
TZNAME:CST
DTSTART:20211107T070000
END:STANDARD
BEGIN:DAYLIGHT
TZOFFSETFROM:-0600
TZOFFSETTO:-0500
TZNAME:CDT
DTSTART:20220313T080000
END:DAYLIGHT
BEGIN:STANDARD
TZOFFSETFROM:-0500
TZOFFSETTO:-0600
TZNAME:CST
DTSTART:20221106T070000
END:STANDARD
BEGIN:DAYLIGHT
TZOFFSETFROM:-0600
TZOFFSETTO:-0500
TZNAME:CDT
DTSTART:20230312T080000
END:DAYLIGHT
BEGIN:STANDARD
TZOFFSETFROM:-0500
TZOFFSETTO:-0600
TZNAME:CST
DTSTART:20231105T070000
END:STANDARD
END:VTIMEZONE
BEGIN:VEVENT
DTSTART;TZID=America/Chicago:20221203T103000
DTEND;TZID=America/Chicago:20221203T120000
DTSTAMP:20260420T080140
CREATED:20220815T182059Z
LAST-MODIFIED:20221114T160419Z
UID:1054-1670063400-1670068800@texasstudies.org
SUMMARY:Fort Worth Horror: The Great South Side Fire of 1909
DESCRIPTION:Many of the great cities of the world\, including Rome\, London\, Lisbon\, Chicago\, and San Francisco\, have endured devastating peacetime fires. Fort Worth joined that tragic company on April 3\, 1909\, when two boys experimenting with cigarettes on a windy spring day led to a barn catching fire. By the time the conflagration was under control with the help of companies from Dallas\, Weatherford and elsewhere\, more than twenty blocks of businesses\, homes\, and churches just south of downtown were destroyed. Join us as historian Carol Roark explains how the fire not only changed the landscape of Fort Worth\, but also how it prepared for disasters. \nCarol Roark has spent many years researching and writing about historic buildings. After twenty years as the Archivist and Manager of the Special Collections Division at the Dallas Public Library\, she is now working on a number of freelance history and historic preservation projects. She has published four books related to those topics\, served as editor for the Tarrant County Historic Resources Survey volumes\, and contributed to works on African American and women’s history. She and her husband live in a 1919 Arts & Crafts bungalow in Fort Worth’s Fairmount/South Side National Register Historic District. \nClick here to register for Zoom!
URL:https://texasstudies.org/events/fort-worth-horror-the-great-south-side-fire-of-1909/
LOCATION:Fort Worth Library\, 500 W. Third St.\, Fort Worth\, TX\, 76102-7305\, United States
END:VEVENT
END:VCALENDAR