BEGIN:VCALENDAR
VERSION:2.0
PRODID:-//Center for Texas Studies - ECPv6.15.17.1//NONSGML v1.0//EN
CALSCALE:GREGORIAN
METHOD:PUBLISH
X-WR-CALNAME:Center for Texas Studies
X-ORIGINAL-URL:https://texasstudies.org
X-WR-CALDESC:Events for Center for Texas Studies
REFRESH-INTERVAL;VALUE=DURATION:PT1H
X-Robots-Tag:noindex
X-PUBLISHED-TTL:PT1H
BEGIN:VTIMEZONE
TZID:America/Chicago
BEGIN:DAYLIGHT
TZOFFSETFROM:-0600
TZOFFSETTO:-0500
TZNAME:CDT
DTSTART:20220313T080000
END:DAYLIGHT
BEGIN:STANDARD
TZOFFSETFROM:-0500
TZOFFSETTO:-0600
TZNAME:CST
DTSTART:20221106T070000
END:STANDARD
BEGIN:DAYLIGHT
TZOFFSETFROM:-0600
TZOFFSETTO:-0500
TZNAME:CDT
DTSTART:20230312T080000
END:DAYLIGHT
BEGIN:STANDARD
TZOFFSETFROM:-0500
TZOFFSETTO:-0600
TZNAME:CST
DTSTART:20231105T070000
END:STANDARD
BEGIN:DAYLIGHT
TZOFFSETFROM:-0600
TZOFFSETTO:-0500
TZNAME:CDT
DTSTART:20240310T080000
END:DAYLIGHT
BEGIN:STANDARD
TZOFFSETFROM:-0500
TZOFFSETTO:-0600
TZNAME:CST
DTSTART:20241103T070000
END:STANDARD
END:VTIMEZONE
BEGIN:VEVENT
DTSTART;TZID=America/Chicago:20230304T103000
DTEND;TZID=America/Chicago:20230304T120000
DTSTAMP:20260420T033713
CREATED:20230117T202427Z
LAST-MODIFIED:20230213T150419Z
UID:1074-1677925800-1677931200@texasstudies.org
SUMMARY:The Lady Makes Boots
DESCRIPTION:In recognition of Women’s History Month\, join us to learn about entrepreneur Enid Justin and her legendary boot-making family. Daughter of Justin Boots founder\, H. J. Justin\, “Miss Enid” decided in 1925 to start her own boot company in Nocona\, Texas. Though discouraged by her family\, this Texas original was determined to succeed. Through sheer tenacity and hard work\, the Nocona Boot Company grew into a multi-million dollar corporation. Biographer Carol Lipscomb will share the risks and rewards that characterized Enid’s business career alongside the trials and tribulations of her personal life. You won’t want to miss this fascinating\, funny\, and sometimes infuriating story. \nDr. Carol Lipscomb is an independent historian. Having resided in Nocona for 20 years\, she was introduced to Enid Justin’s life and legacy through local history and exhaustively researched her background for The Lady Makes Boots. She serves as secretary of the board of the Texas Historical Foundation and currently lives in Fort Worth. \nRegister for Zoom here!
URL:https://texasstudies.org/events/the-lady-makes-boots/
LOCATION:Fort Worth Public Library – Southwest Regional\, 4001 Library Ln\, Fort Worth\, TX\, 76109\, United States
END:VEVENT
END:VCALENDAR