BEGIN:VCALENDAR
VERSION:2.0
PRODID:-//Center for Texas Studies - ECPv6.15.17.1//NONSGML v1.0//EN
CALSCALE:GREGORIAN
METHOD:PUBLISH
X-WR-CALNAME:Center for Texas Studies
X-ORIGINAL-URL:https://texasstudies.org
X-WR-CALDESC:Events for Center for Texas Studies
REFRESH-INTERVAL;VALUE=DURATION:PT1H
X-Robots-Tag:noindex
X-PUBLISHED-TTL:PT1H
BEGIN:VTIMEZONE
TZID:America/Chicago
BEGIN:DAYLIGHT
TZOFFSETFROM:-0600
TZOFFSETTO:-0500
TZNAME:CDT
DTSTART:20250309T080000
END:DAYLIGHT
BEGIN:STANDARD
TZOFFSETFROM:-0500
TZOFFSETTO:-0600
TZNAME:CST
DTSTART:20251102T070000
END:STANDARD
BEGIN:DAYLIGHT
TZOFFSETFROM:-0600
TZOFFSETTO:-0500
TZNAME:CDT
DTSTART:20260308T080000
END:DAYLIGHT
BEGIN:STANDARD
TZOFFSETFROM:-0500
TZOFFSETTO:-0600
TZNAME:CST
DTSTART:20261101T070000
END:STANDARD
BEGIN:DAYLIGHT
TZOFFSETFROM:-0600
TZOFFSETTO:-0500
TZNAME:CDT
DTSTART:20270314T080000
END:DAYLIGHT
BEGIN:STANDARD
TZOFFSETFROM:-0500
TZOFFSETTO:-0600
TZNAME:CST
DTSTART:20271107T070000
END:STANDARD
END:VTIMEZONE
BEGIN:VEVENT
DTSTART;TZID=America/Chicago:20260422T183000
DTEND;TZID=America/Chicago:20260425T160000
DTSTAMP:20260423T033243
CREATED:20260326T182923Z
LAST-MODIFIED:20260326T182923Z
UID:1278-1776882600-1777132800@texasstudies.org
SUMMARY:The Architecture of Charles Stevens Dilbeck in Fort Worth
DESCRIPTION:Quirky. Eclectic. Whimsical. Delightful. All of these words have been used to describe the man and the work of Dilbeck who designed some of the region’s most interesting and important homes from the mid 1920s until the late 1960s. The program will explore the architectural legacy of Charles Dilbeck in Fort Worth. This two-part program includes: \nWednesday\, April 22 from 6:30 PM – 8:00 PM: An interactive Zoom lecture \nSaturday\, April 25 from 9:00 AM – 4:00 PM: Bus Tour at multiple Dilbeck properties in Fort Worth and box lunch. Tour departs from TCU’s Dee J. Kelly Alumni & Visitors Center. \nYou can purchase tickets at: https://www.campusce.net/tcu/course/course.aspx?catId=503.
URL:https://texasstudies.org/events/the-architecture-of-charles-stevens-dilbeck-in-fort-worth/
LOCATION:TX
END:VEVENT
BEGIN:VEVENT
DTSTART;TZID=America/Chicago:20260502T103000
DTEND;TZID=America/Chicago:20260502T120000
DTSTAMP:20260423T033243
CREATED:20260420T135950Z
LAST-MODIFIED:20260420T145827Z
UID:1283-1777717800-1777723200@texasstudies.org
SUMMARY:“The British and Comanches are Coming! The Problem of English Traders and Indian Diplomacy in Spanish Texas for Support of the American Revolution”
DESCRIPTION:This talk focuses upon the Spanish imperial project during the late 1770’s in the far northeastern frontier of New Spain (colonial Mexico) that included the province of Texas. With the appearance of English traders along the Gulf Coast of Texas\, the Spanish attempted to exert control over Indigenous nations and trade through the establishment of Bucareli along the lower Trinity River under the leadership of Captain Antonio Gil Ybarbo\, a criollo native from Los Adaes. Whereas his superiors feared contraband trade\, indios bárbaros\, and foreigners\, Ybarbo and other frontiersmen sought comercio libre (free trade) along with the development of ranching and agricultural enterprises under Spain’s Bourbon Reforms that fueled dreams of empire and independence during the American Revolution. \nFrancis X. Galán holds a PhD in history from Southern Methodist University\, Dallas\, Texas. He is currently an Associate Professor of History at Texas A&M University-San Antonio and a Research Fellow with the Center for History and Culture of Southeast Texas and the Upper Gulf Coast at Lamar University. He is the author of the book\, Los Adaes: The First Capital of Spanish Texas\, published in 2020 by Texas A&M University Press through the Summerfield G. Roberts Texas History Series\, and won the 2022 book award from the Texas Old Missions and Forts Restoration Association as well as a 2023 book award from the San Antonio Conservation Society. On a personal note\, Dr. Galán was born at the U.S. Naval Air Station in Corpus Christi\, Texas\, where his father was a Lieutenant Commander in the Medical Corps\, and grew up in San Antonio\, which he considers his hometown. \nClick here to register on Zoom!
URL:https://texasstudies.org/events/the-british-and-comanches-are-coming-the-problem-of-english-traders-and-indian-diplomacy-in-spanish-texas-for-support-of-the-american-revolution/
LOCATION:Palko Hall\, 3000 Bellaire Drive North\, Fort Worth\, TX\, 76109\, United States
END:VEVENT
END:VCALENDAR