BEGIN:VCALENDAR
VERSION:2.0
PRODID:-//Center for Texas Studies - ECPv6.15.17.1//NONSGML v1.0//EN
CALSCALE:GREGORIAN
METHOD:PUBLISH
X-ORIGINAL-URL:https://texasstudies.org
X-WR-CALDESC:Events for Center for Texas Studies
REFRESH-INTERVAL;VALUE=DURATION:PT1H
X-Robots-Tag:noindex
X-PUBLISHED-TTL:PT1H
BEGIN:VTIMEZONE
TZID:America/Chicago
BEGIN:DAYLIGHT
TZOFFSETFROM:-0600
TZOFFSETTO:-0500
TZNAME:CDT
DTSTART:20220313T080000
END:DAYLIGHT
BEGIN:STANDARD
TZOFFSETFROM:-0500
TZOFFSETTO:-0600
TZNAME:CST
DTSTART:20221106T070000
END:STANDARD
BEGIN:DAYLIGHT
TZOFFSETFROM:-0600
TZOFFSETTO:-0500
TZNAME:CDT
DTSTART:20230312T080000
END:DAYLIGHT
BEGIN:STANDARD
TZOFFSETFROM:-0500
TZOFFSETTO:-0600
TZNAME:CST
DTSTART:20231105T070000
END:STANDARD
BEGIN:DAYLIGHT
TZOFFSETFROM:-0600
TZOFFSETTO:-0500
TZNAME:CDT
DTSTART:20240310T080000
END:DAYLIGHT
BEGIN:STANDARD
TZOFFSETFROM:-0500
TZOFFSETTO:-0600
TZNAME:CST
DTSTART:20241103T070000
END:STANDARD
END:VTIMEZONE
BEGIN:VEVENT
DTSTART;TZID=America/Chicago:20230107T103000
DTEND;TZID=America/Chicago:20230107T120000
DTSTAMP:20260420T045212
CREATED:20221108T204709Z
LAST-MODIFIED:20221118T165151Z
UID:1065-1673087400-1673092800@texasstudies.org
SUMMARY:Longhorns\, Legends\, and Life on the Trail
DESCRIPTION:Thanks to western books and movies\, we all have a good idea of how nineteenth-century cowboys lived and origins of the cattle they drove. Right? Maybe not. Historian and author Wayne Ludwig joins us this month to set us straight about the risks and rewards of life on the trail. We’ll also consider whether the cattle they moved north were really Texas Longhorns or just bovines with long horns? Don’t miss this chance to dig into the facts and explore the evolution of the legends surround the Texas cowboy. \nWayne Ludwig is a Fort Worth native\, cattle trails historian\, and author of The Old Chisholm Trail: From Cow Path to Tourist Stop. He created the Texas Cattle Trails History Group on Facebook\, and is a member of Western Writers of America and the Academy of Western Artists. The Old Chisholm Trail was awarded the Elmer Kelton Book of the Year award by the Academy of Western Artists\, and was named a finalist for the 2018 Most Significant Scholarly Book by the Texas Institute of Letters. Ludwig has been a guest speaker at various symposiums and historical association events and instructor for TCU Silver Frogs extended education. \nClick here to register for Zoom!
URL:https://texasstudies.org/events/longhorns-legends-and-life-on-the-trail/
END:VEVENT
END:VCALENDAR